Workbook

Sheet Справка
A1: Таблица давления насыщения хладагентов
A3: Атмосферное давление, бар | B3: 1.01325
A5: Источник: библиотека CoolProp 8.0.0, расчёт 2026-09-17. Шаг 5 K.
A6: Лист «Абсолютное, бар» — результаты расчёта (значения). Лист «Избыточное, бар» — формулы: абсолютное − атмосферное (B3).
A7: Для зеотропных смесей (R4xx): «кип.» — давление точки кипения, «роса» — давление точки росы.
A8: R507A, R513A, R502 — азеотропы: приведено среднее давлений кипения и росы.
A9: R406A и R409A — расчёт оценочный (часть параметров смешения оценена по правилу Лоренца — Бертло).
A10: Страница с калькулятором: https://www.xiron.ru/ — ООО «Ксирон-Холод».

Sheet Абсолютное, бар
A1: t, °C | B1: R410A | D1: R407C | F1: R404A | H1: R134a | I1: R32 | J1: R507A | K1: R23 | L1: R407F | N1: R422D | P1: R1234ze(E) | Q1: R1234yf | R1: R1233zd(E) | S1: R513A | T1: R454B | V1: R452B | X1: R448A | Z1: R449A | AB1: R452A | AD1: R455A | AF1: R717 | AG1: R744 | AH1: R290 | AI1: R600a | AJ1: R600 | AK1: R22 | AL1: R12 | AM1: R502 | AN1: R142b | AO1: R406A | AQ1: R409A
B2: кип. | C2: роса | D2: кип. | E2: роса | F2: кип. | G2: роса | L2: кип. | M2: роса | N2: кип. | O2: роса | T2: кип. | U2: роса | V2: кип. | W2: роса | X2: кип. | Y2: роса | Z2: кип. | AA2: роса | AB2: кип. | AC2: роса | AD2: кип. | AE2: роса | AO2: кип. | AP2: роса | AQ2: кип. | AR2: роса
A3: -70 | B3: 0.35624 | C3: 0.35444 | D3: 0.23509 | E3: 0.14201 | F3: 0.27654 | G3: 0.26074 | I3: 0.36067 | J3: 0.28364 | K3: 1.937 | L3: 0.26775 | M3: 0.16977 | N3: 0.23803 | O3: 0.15964 | Q3: 0.11126 | S3: 0.10468 | T3: 0.3457 | U3: 0.32192 | V3: 0.34784 | W3: 0.32886 | X3: 0.27214 | Y3: 0.17488 | Z3: 0.26772 | AA3: 0.17759 | AB3: 0.28336 | AC3: 0.22186 | AD3: 0.40296 | AE3: 0.17347 | AF3: 0.10896 | AH3: 0.24404 | AK3: 0.20469 | AL3: 0.12278 | AM3: 0.25875
A4: -65 | B4: 0.48237 | C4: 0.48012 | D4: 0.32055 | E4: 0.20025 | F4: 0.37412 | G4: 0.35485 | H4: 0.1138 | I4: 0.48798 | J4: 0.38374 | K4: 2.4737 | L4: 0.36412 | M4: 0.23818 | N4: 0.32296 | O4: 0.22403 | Q4: 0.15443 | S4: 0.14662 | T4: 0.46727 | U4: 0.43656 | V4: 0.47029 | W4: 0.44564 | X4: 0.36922 | Y4: 0.24391 | Z4: 0.36336 | AA4: 0.24734 | AB4: 0.3843 | AC4: 0.30421 | AD4: 0.5311 | AE4: 0.23975 | AF4: 0.15574 | AH4: 0.32527 | AK4: 0.27944 | AL4: 0.16806 | AM4: 0.34895 | AQ4: 0.20395 | AR4: 0.11512
A5: -60 | B5: 0.64243 | C5: 0.63962 | D5: 0.42979 | E5: 0.27689 | F5: 0.49774 | G5: 0.47457 | H5: 0.15906 | I5: 0.64955 | J5: 0.51052 | K5: 3.1188 | L5: 0.48697 | M5: 0.32772 | N5: 0.431 | O5: 0.30825 | P5: 0.11166 | Q5: 0.21048 | S5: 0.20154 | T5: 0.62137 | U5: 0.58215 | V5: 0.62551 | W5: 0.59389 | X5: 0.49268 | Y5: 0.33378 | Z5: 0.48504 | AA5: 0.33803 | AB5: 0.51246 | AC5: 0.40985 | AD5: 0.68994 | AE5: 0.32545 | AF5: 0.21838 | AH5: 0.42693 | AK5: 0.37505 | AL5: 0.22615 | AM5: 0.46295 | AO5: 0.2369 | AP5: 0.13572 | AQ5: 0.27484 | AR5: 0.16059
A6: -55 | B6: 0.84265 | C6: 0.83916 | D6: 0.56736 | E6: 0.37601 | F6: 0.65212 | G6: 0.62459 | H6: 0.21828 | I6: 0.85172 | J6: 0.66878 | K6: 3.8859 | L6: 0.64129 | M6: 0.44295 | N6: 0.56644 | O6: 0.41649 | P6: 0.15416 | Q6: 0.28211 | S6: 0.27226 | T6: 0.81393 | U6: 0.76442 | V6: 0.81952 | W6: 0.77942 | X6: 0.64743 | Y6: 0.4489 | Z6: 0.63758 | AA6: 0.45402 | AB6: 0.67283 | AC6: 0.54331 | AD6: 0.88438 | AE6: 0.43452 | AF6: 0.30086 | AG6: 5.5397 | AH6: 0.55249 | AI6: 0.12576 | AK6: 0.49553 | AL6: 0.29957 | AM6: 0.605 | AO6: 0.31496 | AP6: 0.18578 | AQ6: 0.36456 | AR6: 0.21992
A7: -50 | B7: 1.0898 | C7: 1.0855 | D7: 0.73831 | E7: 0.50221 | F7: 0.84236 | G7: 0.81005 | H7: 0.29451 | I7: 1.1014 | J7: 0.86376 | K7: 4.7893 | L7: 0.83256 | M7: 0.58897 | N7: 0.734 | O7: 0.55344 | P7: 0.20918 | Q7: 0.37232 | S7: 0.36196 | T7: 1.0515 | U7: 0.98961 | V7: 1.0588 | W7: 1.0085 | X7: 0.83883 | Y7: 0.59412 | Z7: 0.82629 | AA7: 0.60017 | AB7: 0.87082 | AC7: 0.70957 | AD7: 1.1197 | AE7: 0.57135 | AF7: 0.40776 | AG7: 6.8234 | AH7: 0.70569 | AI7: 0.16797 | AK7: 0.6453 | AL7: 0.3911 | AM7: 0.77969 | AN7: 0.13458 | AO7: 0.41262 | AP7: 0.25009 | AQ7: 0.47655 | AR7: 0.29608
A8: -45 | B8: 1.3913 | C8: 1.386 | D8: 0.94808 | E8: 0.66057 | F8: 1.074 | G8: 1.0365 | H8: 0.39117 | I8: 1.4062 | J8: 1.1011 | K8: 5.8439 | L8: 1.0667 | M8: 0.77139 | N8: 0.93877 | O8: 0.72421 | P8: 0.27931 | Q8: 0.48441 | S8: 0.47416 | T8: 1.341 | U8: 1.2645 | V8: 1.3506 | W8: 1.2881 | X8: 1.0727 | Y8: 0.77483 | Z8: 1.0569 | AA8: 0.7818 | AB8: 1.1123 | AC8: 0.91405 | AD8: 1.4013 | AE8: 0.74075 | AF8: 0.54429 | AG8: 8.3184 | AH8: 0.89051 | AI8: 0.22107 | AJ8: 0.127 | AK8: 0.82917 | AL8: 0.50377 | AM8: 0.99199 | AN8: 0.18037 | AO8: 0.53325 | AP8: 0.33149 | AQ8: 0.61458 | AR8: 0.39239
A9: -40 | B9: 1.755 | C9: 1.7485 | D9: 1.2026 | E9: 0.85668 | F9: 1.3529 | G9: 1.3097 | H9: 0.51209 | I9: 1.7741 | J9: 1.3867 | K9: 7.0653 | L9: 1.3502 | M9: 0.99634 | N9: 1.1862 | O9: 0.93437 | P9: 0.36747 | Q9: 0.62198 | S9: 0.61271 | T9: 1.69 | U9: 1.5963 | V9: 1.7023 | W9: 1.6256 | X9: 1.3552 | Y9: 0.99685 | Z9: 1.3356 | AA9: 1.0047 | AB9: 1.4034 | AC9: 1.1626 | AD9: 1.7353 | AE9: 0.94797 | AF9: 0.71633 | AG9: 10.045 | AH9: 1.1112 | AI9: 0.28702 | AJ9: 0.16791 | AK9: 1.0523 | AL9: 0.64087 | AM9: 1.2472 | AN9: 0.23821 | AO9: 0.68047 | AP9: 0.43313 | AQ9: 0.78271 | AR9: 0.51255
A10: -35 | B10: 2.1892 | C10: 2.1814 | D10: 1.5081 | E10: 1.0966 | F10: 1.6853 | G10: 1.6362 | H10: 0.66144 | I10: 2.2138 | J10: 1.727 | K10: 8.4697 | L10: 1.6899 | M10: 1.2705 | N10: 1.4822 | O10: 1.1899 | P10: 0.47685 | Q10: 0.7889 | S10: 0.78178 | T10: 2.1065 | U10: 1.9929 | V10: 2.1221 | W10: 2.0287 | X10: 1.6931 | Y10: 1.2665 | Z10: 1.6688 | AA10: 1.2751 | AB10: 1.7507 | AC10: 1.4615 | AD10: 2.1276 | AE10: 1.1986 | AF10: 0.93042 | AG10: 12.024 | AH10: 1.3723 | AI10: 0.36797 | AJ10: 0.21902 | AK10: 1.3203 | AL10: 0.80591 | AM10: 1.5509 | AN10: 0.3103 | AO10: 0.8582 | AP10: 0.55849 | AQ10: 0.98531 | AR10: 0.66056
A11: -30 | B11: 2.703 | C11: 2.6935 | D11: 1.8713 | E11: 1.3869 | F11: 2.0778 | G11: 2.0223 | H11: 0.84378 | I11: 2.7344 | J11: 2.1287 | K11: 10.074 | L11: 2.0929 | M11: 1.6009 | N11: 1.8327 | O11: 1.4971 | P11: 0.61094 | Q11: 0.98933 | R11: 0.10707 | S11: 0.98587 | T11: 2.599 | U11: 2.4623 | V11: 2.6185 | W11: 2.5058 | X11: 2.0932 | Y11: 1.5905 | Z11: 2.0636 | AA11: 1.5997 | AB11: 2.1612 | AC11: 1.8173 | AD11: 2.5847 | AE11: 1.4988 | AF11: 1.1938 | AG11: 14.278 | AH11: 1.6783 | AI11: 0.46622 | AJ11: 0.2821 | AK11: 1.6389 | AL11: 1.0026 | AM11: 1.9089 | AN11: 0.39911 | AO11: 1.0706 | AP11: 0.71133 | AQ11: 1.227 | AR11: 0.8408
A12: -25 | B12: 3.3055 | C12: 3.2941 | D12: 2.2992 | E12: 1.7345 | F12: 2.5373 | G12: 2.4752 | H12: 1.064 | I12: 3.3456 | J12: 2.5988 | K12: 11.896 | L12: 2.5668 | M12: 1.9953 | N12: 2.2444 | O12: 1.8628 | P12: 0.77355 | Q12: 1.2277 | R12: 0.142 | S12: 1.2298 | T12: 3.1763 | U12: 3.0133 | V12: 3.2005 | W12: 3.0657 | X12: 2.563 | Y12: 1.976 | Z12: 2.527 | AA12: 1.9855 | AB12: 2.6421 | AC12: 2.2372 | AD12: 3.113 | AE12: 1.8549 | AF12: 1.5142 | AG12: 16.827 | AH12: 2.0343 | AI12: 0.58427 | AJ12: 0.3591 | AK12: 2.0143 | AL12: 1.2349 | AM12: 2.3273 | AN12: 0.50729 | AO12: 1.3221 | AP12: 0.8957 | AQ12: 1.5127 | AR12: 1.0579
A13: -20 | B13: 4.0066 | C13: 3.993 | D13: 2.7993 | E13: 2.1469 | F13: 3.071 | G13: 3.0019 | H13: 1.3273 | I13: 4.0575 | J13: 3.1446 | K13: 13.953 | L13: 3.1197 | M13: 2.4616 | N13: 2.7238 | O13: 2.294 | P13: 0.96872 | Q13: 1.5086 | R13: 0.18583 | S13: 1.5185 | T13: 3.8478 | U13: 3.655 | V13: 3.8774 | W13: 3.7175 | X13: 3.11 | Y13: 2.4307 | Z13: 3.0667 | AA13: 2.4401 | AB13: 3.2009 | AC13: 2.7285 | AD13: 3.7194 | AE13: 2.2736 | AF13: 1.9003 | AG13: 19.696 | AH13: 2.4452 | AI13: 0.72477 | AJ13: 0.45213 | AK13: 2.4531 | AL13: 1.507 | AM13: 2.8127 | AN13: 0.63771 | AO13: 1.6173 | AP13: 1.1159 | AQ13: 1.8476 | AR13: 1.317
A14: -15 | B14: 4.8165 | C14: 4.8002 | D14: 3.3792 | E14: 2.6319 | F14: 3.6864 | G14: 3.6101 | H14: 1.6394 | I14: 4.8807 | J14: 3.7737 | K14: 16.265 | L14: 3.7597 | M14: 3.0083 | N14: 3.2781 | O14: 2.7981 | P14: 1.2008 | Q14: 1.8369 | R14: 0.24018 | S14: 1.8575 | T14: 4.623 | U14: 4.3968 | V14: 4.6591 | W14: 4.4709 | X14: 3.7423 | Y14: 2.9625 | Z14: 3.6906 | AA14: 2.9713 | AB14: 3.8453 | AC14: 3.2989 | AD14: 4.4106 | AE14: 2.7623 | AF14: 2.3611 | AG14: 22.908 | AH14: 2.9162 | AI14: 0.89053 | AJ14: 0.56346 | AK14: 2.962 | AL14: 1.8231 | AM14: 3.3714 | AN14: 0.79343 | AO14: 1.961 | AP14: 1.3767 | AQ14: 2.2369 | AR14: 1.6232
A15: -10 | B15: 5.7458 | C15: 5.7265 | D15: 4.0468 | E15: 3.1978 | F15: 4.3913 | G15: 4.3076 | H15: 2.006 | I15: 5.8263 | J15: 4.4941 | K15: 18.853 | L15: 4.4956 | M15: 3.6444 | N15: 3.9145 | O15: 3.3828 | P15: 1.4744 | Q15: 2.2179 | R15: 0.30685 | S15: 2.2523 | T15: 5.5122 | U15: 5.2486 | V15: 5.5557 | W15: 5.3359 | X15: 4.4679 | Y15: 3.5798 | Z15: 4.4066 | AA15: 3.5874 | AB15: 4.5833 | AC15: 3.9565 | AD15: 5.1938 | AE15: 3.3284 | AF15: 2.9064 | AG15: 26.487 | AH15: 3.4528 | AI15: 1.0845 | AJ15: 0.69553 | AK15: 3.5479 | AL15: 2.1878 | AM15: 4.0104 | AN15: 0.97773 | AO15: 2.3582 | AP15: 1.6827 | AQ15: 2.6863 | AR15: 1.9823
A16: -5 | B16: 6.8055 | C16: 6.7828 | D16: 4.8105 | E16: 3.8532 | F16: 5.1937 | G16: 5.1026 | H16: 2.4334 | I16: 6.9058 | J16: 5.3139 | K16: 21.739 | L16: 5.3362 | M16: 4.3791 | N16: 4.6406 | O16: 4.056 | P16: 1.7942 | Q16: 2.6566 | R16: 0.3878 | S16: 2.7088 | T16: 6.5257 | U16: 6.2209 | V16: 6.5777 | W16: 6.323 | X16: 5.2954 | Y16: 4.2913 | Z16: 5.2232 | AA16: 4.297 | AB16: 5.423 | AC16: 4.7098 | AD16: 6.076 | AE16: 3.9798 | AF16: 3.5466 | AG16: 30.459 | AH16: 4.0604 | AI16: 1.3098 | AJ16: 0.85089 | AK16: 4.218 | AL16: 2.6057 | AM16: 4.7366 | AN16: 1.1941 | AO16: 2.8141 | AP16: 2.0393 | AQ16: 3.2014 | AR16: 2.3999
A17: 0 | B17: 8.007 | C17: 7.9805 | D17: 5.6787 | E17: 4.6071 | F17: 6.1019 | G17: 6.0033 | H17: 2.928 | I17: 8.131 | J17: 6.2417 | K17: 24.947 | L17: 6.2906 | M17: 5.2222 | N17: 5.4641 | O17: 4.8262 | P17: 2.1655 | Q17: 3.1588 | R17: 0.48513 | S17: 3.2331 | T17: 7.6741 | U17: 7.3242 | V17: 7.7359 | W17: 7.4429 | X17: 6.2334 | Y17: 5.1063 | Z17: 6.1489 | AA17: 5.1091 | AB17: 6.3731 | AC17: 5.5677 | AD17: 7.0643 | AE17: 4.7247 | AF17: 4.2925 | AG17: 34.851 | AH17: 4.7446 | AI17: 1.5696 | AJ17: 1.0323 | AK17: 4.9799 | AL17: 3.0815 | AM17: 5.5573 | AN17: 1.446 | AO17: 3.3339 | AP17: 2.4516 | AQ17: 3.7882 | AR17: 2.8823
A18: 5 | B18: 9.3623 | C18: 9.3315 | D18: 6.6602 | E18: 5.4691 | F18: 7.1247 | G18: 7.0186 | H18: 3.4966 | I18: 9.5145 | J18: 7.2862 | K18: 28.503 | L18: 7.3683 | M18: 6.1838 | N18: 6.3931 | O18: 5.7018 | P18: 2.5934 | Q18: 3.7301 | R18: 0.60116 | S18: 3.8313 | T18: 8.9687 | U18: 8.5699 | V18: 9.0417 | W18: 8.7071 | X18: 7.2909 | Y18: 6.0342 | Z18: 7.1926 | AA18: 6.0332 | AB18: 7.4419 | AC18: 6.5393 | AD18: 8.1662 | AE18: 5.572 | AF18: 5.1556 | AG18: 39.695 | AH18: 5.5112 | AI18: 1.8672 | AJ18: 1.2425 | AK18: 5.8411 | AL18: 3.6201 | AM18: 6.4797 | AN18: 1.7374 | AO18: 3.9232 | AP18: 2.9253 | AQ18: 4.4526 | AR18: 3.4357
A19: 10 | B19: 10.884 | C19: 10.848 | D19: 7.7641 | E19: 6.4488 | F19: 8.271 | G19: 8.1575 | H19: 4.1461 | I19: 11.069 | J19: 8.4566 | K19: 32.438 | L19: 8.579 | M19: 7.2747 | N19: 7.4358 | O19: 6.6917 | P19: 3.0836 | Q19: 4.3763 | R19: 0.73832 | S19: 4.5101 | T19: 10.421 | U19: 9.9695 | V19: 10.507 | W19: 10.127 | X19: 8.477 | Y19: 7.0852 | Z19: 8.3632 | AA19: 7.0789 | AB19: 8.6385 | AC19: 7.6343 | AD19: 9.3888 | AE19: 6.5306 | AF19: 6.1479 | AG19: 45.022 | AH19: 6.366 | AI19: 2.2061 | AJ19: 1.4845 | AK19: 6.8095 | AL19: 4.2267 | AM19: 7.5116 | AN19: 2.0721 | AO19: 4.5874 | AP19: 3.4662 | AQ19: 5.2009 | AR19: 4.0668
A20: 15 | B20: 12.584 | C20: 12.543 | D20: 8.9995 | E20: 7.5567 | F20: 9.55 | G20: 9.4294 | H20: 4.8837 | I20: 12.808 | J20: 9.7624 | K20: 36.791 | L20: 9.9327 | M20: 8.5057 | N20: 8.601 | O20: 7.8053 | P20: 3.6416 | Q20: 5.1036 | R20: 0.89921 | S20: 5.2762 | T20: 12.043 | U20: 11.535 | V20: 12.143 | W20: 11.716 | X20: 9.801 | Y20: 8.2695 | Z20: 9.67 | AA20: 8.2566 | AB20: 9.9717 | AC20: 8.8629 | AD20: 10.739 | AE20: 7.6103 | AF20: 7.2819 | AG20: 50.871 | AH20: 7.3151 | AI20: 2.5899 | AJ20: 1.7615 | AK20: 7.8931 | AL20: 4.9063 | AM20: 8.6607 | AN20: 2.4543 | AO20: 5.3321 | AP20: 4.0803 | AQ20: 6.0393 | AR20: 4.7823
A21: 20 | B21: 14.476 | C21: 14.43 | D21: 10.376 | E21: 8.8034 | F21: 10.972 | G21: 10.844 | H21: 5.7171 | I21: 14.746 | J21: 11.214 | K21: 41.61 | L21: 11.44 | M21: 9.8886 | N21: 9.8974 | O21: 9.0521 | P21: 4.2734 | Q21: 5.9184 | R21: 1.0866 | S21: 6.1365 | T21: 13.846 | U21: 13.28 | V21: 13.963 | W21: 13.485 | X21: 11.272 | Y21: 9.5983 | Z21: 11.122 | AA21: 9.5769 | AB21: 11.451 | AC21: 10.236 | AD21: 12.226 | AE21: 8.821 | AF21: 8.5704 | AG21: 57.291 | AH21: 8.3646 | AI21: 3.0222 | AJ21: 2.0765 | AK21: 9.1002 | AL21: 5.6642 | AM21: 9.9349 | AN21: 2.8881 | AO21: 6.1631 | AP21: 4.7737 | AQ21: 6.9741 | AR21: 5.5894
A22: 25 | B22: 16.574 | C22: 16.522 | D22: 11.903 | E22: 10.2 | F22: 12.546 | G22: 12.412 | H22: 6.6538 | I22: 16.896 | J22: 12.82 | K22: 46.986 | L22: 13.11 | M22: 11.435 | N22: 11.334 | O22: 10.442 | P22: 4.9852 | Q22: 6.827 | R22: 1.3034 | S22: 7.0982 | T22: 15.843 | U22: 15.217 | V22: 15.979 | W22: 15.45 | X22: 12.901 | Y22: 11.083 | Z22: 12.73 | AA22: 11.051 | AB22: 13.085 | AC22: 11.764 | AD22: 13.854 | AE22: 10.173 | AF22: 10.027 | AG22: 64.342 | AH22: 9.5207 | AI22: 3.5067 | AJ22: 2.4329 | AK22: 10.439 | AL22: 6.5057 | AM22: 11.343 | AN22: 3.3778 | AO22: 7.0862 | AP22: 5.553 | AQ22: 8.0119 | AR22: 6.4953
A23: 30 | B23: 18.893 | C23: 18.835 | D23: 13.591 | E23: 11.759 | F23: 14.283 | G23: 14.144 | H23: 7.702 | I23: 19.275 | J23: 14.594 | L23: 14.955 | M23: 13.159 | N23: 12.921 | O23: 11.986 | P23: 5.7833 | Q23: 7.8362 | R23: 1.5526 | S23: 8.1688 | T23: 18.048 | U23: 17.36 | V23: 18.205 | W23: 17.623 | X23: 14.697 | Y23: 12.736 | Z23: 14.502 | AA23: 12.692 | AB23: 14.885 | AC23: 13.459 | AD23: 15.633 | AE23: 11.679 | AF23: 11.665 | AG23: 72.137 | AH23: 10.79 | AI23: 4.0472 | AJ23: 2.8341 | AK23: 11.919 | AL23: 7.4365 | AM23: 12.893 | AN23: 3.9279 | AO23: 8.1072 | AP23: 6.4247 | AQ23: 9.1593 | AR23: 7.5076
A24: 35 | B24: 21.449 | C24: 21.385 | D24: 15.45 | E24: 13.492 | F24: 16.195 | G24: 16.051 | H24: 8.8698 | I24: 21.898 | J24: 16.545 | L24: 16.986 | M24: 15.073 | N24: 14.668 | O24: 13.695 | P24: 6.6741 | Q24: 8.953 | R24: 1.8373 | S24: 9.3558 | T24: 20.475 | U24: 19.724 | V24: 20.654 | W24: 20.02 | X24: 16.67 | Y24: 14.57 | Z24: 16.45 | AA24: 14.51 | AB24: 16.859 | AC24: 15.335 | AD24: 17.569 | AE24: 13.351 | AF24: 13.5 | AH24: 12.179 | AI24: 4.6477 | AJ24: 3.2836 | AK24: 13.548 | AL24: 8.4621 | AM24: 14.594 | AN24: 4.543 | AO24: 9.2321 | AP24: 7.3957 | AQ24: 10.423 | AR24: 8.6341
A25: 40 | B25: 24.256 | C25: 24.187 | D25: 17.49 | E25: 15.413 | F25: 18.294 | G25: 18.146 | H25: 10.166 | I25: 24.783 | J25: 18.688 | L25: 19.214 | M25: 17.193 | N25: 16.584 | O25: 15.581 | P25: 7.6645 | Q25: 10.185 | R25: 2.161 | S25: 10.667 | T25: 23.136 | U25: 22.326 | V25: 23.342 | W25: 22.657 | X25: 18.831 | Y25: 16.599 | Z25: 18.583 | AA25: 16.522 | AB25: 19.019 | AC25: 17.406 | AD25: 19.669 | AE25: 15.201 | AF25: 15.545 | AH25: 13.694 | AI25: 5.3121 | AJ25: 3.7849 | AK25: 15.336 | AL25: 9.5882 | AM25: 16.456 | AN25: 5.2276 | AO25: 10.467 | AP25: 8.4732 | AQ25: 11.809 | AR25: 9.883
A26: 45 | B26: 27.335 | C26: 27.261 | D26: 19.723 | E26: 17.536 | F26: 20.593 | G26: 20.443 | H26: 11.599 | I26: 27.948 | J26: 21.035 | L26: 21.651 | M26: 19.533 | N26: 18.683 | O26: 17.657 | P26: 8.7615 | Q26: 11.539 | R26: 2.527 | S26: 12.111 | T26: 26.048 | U26: 25.184 | V26: 26.284 | W26: 25.553 | X26: 21.19 | Y26: 18.839 | Z26: 20.913 | AA26: 18.74 | AB26: 21.375 | AC26: 19.686 | AD26: 21.94 | AE26: 17.245 | AF26: 17.817 | AH26: 15.343 | AI26: 6.0445 | AJ26: 4.3416 | AK26: 17.292 | AL26: 10.821 | AM26: 18.489 | AN26: 5.9866 | AO26: 11.818 | AP26: 9.6646 | AQ26: 13.326 | AR26: 11.263
A27: 50 | B27: 30.706 | C27: 30.628 | D27: 22.16 | E27: 19.878 | F27: 23.106 | G27: 22.957 | H27: 13.179 | I27: 31.412 | J27: 23.603 | L27: 24.31 | M27: 22.112 | N27: 20.974 | O27: 19.937 | P27: 9.9722 | Q27: 13.023 | R27: 2.9388 | S27: 13.697 | T27: 29.227 | U27: 28.316 | V27: 29.497 | W27: 28.727 | X27: 23.759 | Y27: 21.306 | Z27: 23.449 | AA27: 21.183 | AB27: 23.938 | AC27: 22.195 | AD27: 24.388 | AE27: 19.5 | AF27: 20.33 | AH27: 17.133 | AI27: 6.849 | AJ27: 4.9575 | AK27: 19.427 | AL27: 12.166 | AM27: 20.705 | AN27: 6.8248 | AO27: 13.29 | AP27: 10.977 | AQ27: 14.979 | AR27: 12.782
A28: 55 | B28: 34.391 | C28: 34.313 | D28: 24.812 | E28: 22.454 | F28: 25.851 | G28: 25.705 | H28: 14.915 | I28: 35.199 | J28: 26.409 | L28: 27.203 | M28: 24.95 | N28: 23.471 | O28: 22.438 | P28: 11.304 | Q28: 14.647 | R28: 3.4002 | S28: 15.433 | T28: 32.69 | U28: 31.745 | V28: 32.998 | W28: 32.202 | X28: 26.549 | Y28: 24.021 | Z28: 26.204 | AA28: 23.868 | AB28: 26.72 | AC28: 24.953 | AD28: 27.019 | AE28: 21.985 | AF28: 23.1 | AH28: 19.072 | AI28: 7.7299 | AJ28: 5.6365 | AK28: 21.751 | AL28: 13.63 | AM28: 23.115 | AN28: 7.7473 | AO28: 14.891 | AP28: 12.42 | AQ28: 16.777 | AR28: 14.45
A29: 60 | B29: 38.418 | C29: 38.344 | D29: 27.692 | E29: 25.287 | F29: 28.849 | G29: 28.711 | H29: 16.818 | I29: 39.332 | J29: 29.476 | L29: 30.346 | M29: 28.07 | N29: 26.189 | O29: 25.179 | P29: 12.766 | Q29: 16.418 | R29: 3.9148 | S29: 17.33 | T29: 36.456 | U29: 35.498 | V29: 36.809 | W29: 36.005 | X29: 29.573 | Y29: 27.006 | Z29: 29.189 | AA29: 26.818 | AB29: 29.732 | AC29: 27.989 | AD29: 29.838 | AE29: 24.722 | AF29: 26.145 | AH29: 21.168 | AI29: 8.6916 | AJ29: 6.3824 | AK29: 24.275 | AL29: 15.219 | AM29: 25.733 | AN29: 8.7591 | AO29: 16.627 | AP29: 14.001 | AQ29: 18.726 | AR29: 16.278
A30: 65 | B30: 42.824 | C30: 42.76 | D30: 30.814 | E30: 28.4 | F30: 32.125 | G30: 32.004 | H30: 18.898 | I30: 43.843 | J30: 32.838 | L30: 33.751 | M30: 31.501 | N30: 29.143 | O30: 28.185 | P30: 14.365 | Q30: 18.347 | R30: 4.4866 | S30: 19.398 | T30: 40.546 | U30: 39.609 | V30: 40.951 | W30: 40.17 | X30: 32.841 | Y30: 30.291 | Z30: 32.417 | AA30: 30.062 | AB30: 32.987 | AC30: 31.343 | AD30: 32.848 | AE30: 27.742 | AF30: 29.481 | AH30: 23.43 | AI30: 9.7386 | AJ30: 7.1991 | AK30: 27.012 | AL30: 16.941 | AM30: 28.577 | AN30: 9.8655 | AO30: 18.503 | AP30: 15.729 | AQ30: 20.834 | AR30: 18.275
A31: 70 | D31: 34.189 | E31: 31.823 | H31: 21.168 | I31: 48.768 | L31: 37.433 | M31: 35.282 | N31: 32.352 | O31: 31.494 | P31: 16.11 | Q31: 20.445 | R31: 5.1196 | S31: 21.649 | T31: 44.985 | U31: 44.125 | V31: 45.451 | W31: 44.749 | X31: 36.365 | Y31: 33.916 | Z31: 35.897 | AA31: 33.638 | AB31: 36.485 | AC31: 35.088 | AD31: 36.045 | AE31: 31.083 | AF31: 33.125 | AH31: 25.868 | AI31: 10.875 | AJ31: 8.0908 | AK31: 29.974 | AL31: 18.802 | AM31: 31.666 | AN31: 11.072 | AO31: 20.527 | AP31: 17.615 | AQ31: 23.108 | AR31: 20.453
A32: 75 | D32: 37.83 | E32: 35.601 | H32: 23.641 | I32: 54.168 | L32: 41.401 | M32: 39.476 | N32: 35.829 | O32: 35.181 | P32: 18.011 | Q32: 22.722 | R32: 5.8178 | S32: 24.095 | T32: 49.801 | U32: 49.143 | X32: 40.149 | Y32: 37.946 | Z32: 39.634 | AA32: 37.608 | AD32: 39.416 | AE32: 34.807 | AF32: 37.096 | AH32: 28.493 | AI32: 12.107 | AJ32: 9.0616 | AK32: 33.177 | AL32: 20.811 | AM32: 35.029 | AN32: 12.384 | AO32: 22.705 | AP32: 19.668 | AQ32: 25.557 | AR32: 22.826
A33: 80 | D33: 41.738 | E33: 39.808 | H33: 26.332 | P33: 20.077 | Q33: 25.195 | R33: 6.5855 | S33: 26.753 | AF33: 41.413 | AH33: 31.319 | AI33: 13.438 | AJ33: 10.116 | AK33: 36.638 | AL33: 22.975 | AN33: 13.807 | AO33: 25.044 | AP33: 21.9 | AQ33: 28.189 | AR33: 25.408
A34: 85 | H34: 29.258 | P34: 22.321 | Q34: 27.881 | R34: 7.4272 | S34: 29.641 | AF34: 46.095 | AH34: 34.361 | AI34: 14.874 | AJ34: 11.258 | AK34: 40.378 | AL34: 25.304 | AN34: 15.349 | AO34: 27.55 | AP34: 24.326 | AQ34: 31.012 | AR34: 28.216
A35: 90 | H35: 32.442 | P35: 24.755 | Q35: 30.808 | R35: 8.3472 | S35: 32.787 | AF35: 51.164 | AH35: 37.641 | AI35: 16.42 | AJ35: 12.493 | AK35: 44.423 | AL35: 27.808 | AN35: 17.014 | AO35: 30.231 | AP35: 26.961 | AQ35: 34.033 | AR35: 31.272

Sheet Избыточное, бар
A1: t, °C | B1: R410A | D1: R407C | F1: R404A | H1: R134a | I1: R32 | J1: R507A | K1: R23 | L1: R407F | N1: R422D | P1: R1234ze(E) | Q1: R1234yf | R1: R1233zd(E) | S1: R513A | T1: R454B | V1: R452B | X1: R448A | Z1: R449A | AB1: R452A | AD1: R455A | AF1: R717 | AG1: R744 | AH1: R290 | AI1: R600a | AJ1: R600 | AK1: R22 | AL1: R12 | AM1: R502 | AN1: R142b | AO1: R406A | AQ1: R409A
B2: кип. | C2: роса | D2: кип. | E2: роса | F2: кип. | G2: роса | L2: кип. | M2: роса | N2: кип. | O2: роса | T2: кип. | U2: роса | V2: кип. | W2: роса | X2: кип. | Y2: роса | Z2: кип. | AA2: роса | AB2: кип. | AC2: роса | AD2: кип. | AE2: роса | AO2: кип. | AP2: роса | AQ2: кип. | AR2: роса
A3: -70 | B3: ='Абсолютное, бар'!B3-Справка!$B$3 -> -0.65701 | C3: ='Абсолютное, бар'!C3-Справка!$B$3 -> -0.65881 | D3: ='Абсолютное, бар'!D3-Справка!$B$3 -> -0.77816 | E3: ='Абсолютное, бар'!E3-Справка!$B$3 -> -0.87124 | F3: ='Абсолютное, бар'!F3-Справка!$B$3 -> -0.73671 | G3: ='Абсолютное, бар'!G3-Справка!$B$3 -> -0.75251 | I3: ='Абсолютное, бар'!I3-Справка!$B$3 -> -0.65258 | J3: ='Абсолютное, бар'!J3-Справка!$B$3 -> -0.72961 | K3: ='Абсолютное, бар'!K3-Справка!$B$3 -> 0.92375 | L3: ='Абсолютное, бар'!L3-Справка!$B$3 -> -0.7455 | M3: ='Абсолютное, бар'!M3-Справка!$B$3 -> -0.84348 | N3: ='Абсолютное, бар'!N3-Справка!$B$3 -> -0.77522 | O3: ='Абсолютное, бар'!O3-Справка!$B$3 -> -0.85361 | Q3: ='Абсолютное, бар'!Q3-Справка!$B$3 -> -0.90199 | S3: ='Абсолютное, бар'!S3-Справка!$B$3 -> -0.90857 | T3: ='Абсолютное, бар'!T3-Справка!$B$3 -> -0.66755 | U3: ='Абсолютное, бар'!U3-Справка!$B$3 -> -0.69133 | V3: ='Абсолютное, бар'!V3-Справка!$B$3 -> -0.66541 | W3: ='Абсолютное, бар'!W3-Справка!$B$3 -> -0.68439 | X3: ='Абсолютное, бар'!X3-Справка!$B$3 -> -0.74111 | Y3: ='Абсолютное, бар'!Y3-Справка!$B$3 -> -0.83837 | Z3: ='Абсолютное, бар'!Z3-Справка!$B$3 -> -0.74553 | ... AF3: ='Абсолютное, бар'!AF3-Справка!$B$3 -> -0.90429 | AH3: ='Абсолютное, бар'!AH3-Справка!$B$3 -> -0.76921 | AK3: ='Абсолютное, бар'!AK3-Справка!$B$3 -> -0.80856 | AL3: ='Абсолютное, бар'!AL3-Справка!$B$3 -> -0.89047 | AM3: ='Абсолютное, бар'!AM3-Справка!$B$3 -> -0.7545
A4: -65 | B4: ='Абсолютное, бар'!B4-Справка!$B$3 -> -0.53088 | C4: ='Абсолютное, бар'!C4-Справка!$B$3 -> -0.53313 | D4: ='Абсолютное, бар'!D4-Справка!$B$3 -> -0.6927 | E4: ='Абсолютное, бар'!E4-Справка!$B$3 -> -0.813 | F4: ='Абсолютное, бар'!F4-Справка!$B$3 -> -0.63913 | G4: ='Абсолютное, бар'!G4-Справка!$B$3 -> -0.6584 | H4: ='Абсолютное, бар'!H4-Справка!$B$3 -> -0.89945 | I4: ='Абсолютное, бар'!I4-Справка!$B$3 -> -0.52527 | ... O4: ='Абсолютное, бар'!O4-Справка!$B$3 -> -0.78922 | Q4: ='Абсолютное, бар'!Q4-Справка!$B$3 -> -0.85882 | S4: ='Абсолютное, бар'!S4-Справка!$B$3 -> -0.86663 | T4: ='Абсолютное, бар'!T4-Справка!$B$3 -> -0.54598 | U4: ='Абсолютное, бар'!U4-Справка!$B$3 -> -0.57669 | V4: ='Абсолютное, бар'!V4-Справка!$B$3 -> -0.54296 | W4: ='Абсолютное, бар'!W4-Справка!$B$3 -> -0.56761 | X4: ='Абсолютное, бар'!X4-Справка!$B$3 -> -0.64403 | Y4: ='Абсолютное, бар'!Y4-Справка!$B$3 -> -0.76934 | Z4: ='Абсолютное, бар'!Z4-Справка!$B$3 -> -0.64989 | ... AF4: ='Абсолютное, бар'!AF4-Справка!$B$3 -> -0.85751 | AH4: ='Абсолютное, бар'!AH4-Справка!$B$3 -> -0.68798 | AK4: ='Абсолютное, бар'!AK4-Справка!$B$3 -> -0.73381 | AL4: ='Абсолютное, бар'!AL4-Справка!$B$3 -> -0.84519 | AM4: ='Абсолютное, бар'!AM4-Справка!$B$3 -> -0.6643 | AQ4: ='Абсолютное, бар'!AQ4-Справка!$B$3 -> -0.8093 | AR4: ='Абсолютное, бар'!AR4-Справка!$B$3 -> -0.89813
A5: -60 | B5: ='Абсолютное, бар'!B5-Справка!$B$3 -> -0.37082 | C5: ='Абсолютное, бар'!C5-Справка!$B$3 -> -0.37363 | D5: ='Абсолютное, бар'!D5-Справка!$B$3 -> -0.58346 | E5: ='Абсолютное, бар'!E5-Справка!$B$3 -> -0.73636 | F5: ='Абсолютное, бар'!F5-Справка!$B$3 -> -0.51551 | G5: ='Абсолютное, бар'!G5-Справка!$B$3 -> -0.53868 | H5: ='Абсолютное, бар'!H5-Справка!$B$3 -> -0.85419 | I5: ='Абсолютное, бар'!I5-Справка!$B$3 -> -0.3637 | ... Q5: ='Абсолютное, бар'!Q5-Справка!$B$3 -> -0.80277 | S5: ='Абсолютное, бар'!S5-Справка!$B$3 -> -0.81171 | T5: ='Абсолютное, бар'!T5-Справка!$B$3 -> -0.39188 | U5: ='Абсолютное, бар'!U5-Справка!$B$3 -> -0.4311 | V5: ='Абсолютное, бар'!V5-Справка!$B$3 -> -0.38774 | W5: ='Абсолютное, бар'!W5-Справка!$B$3 -> -0.41936 | X5: ='Абсолютное, бар'!X5-Справка!$B$3 -> -0.52057 | Y5: ='Абсолютное, бар'!Y5-Справка!$B$3 -> -0.67947 | Z5: ='Абсолютное, бар'!Z5-Справка!$B$3 -> -0.52821 | ... AF5: ='Абсолютное, бар'!AF5-Справка!$B$3 -> -0.79487 | AH5: ='Абсолютное, бар'!AH5-Справка!$B$3 -> -0.58632 | AK5: ='Абсолютное, бар'!AK5-Справка!$B$3 -> -0.6382 | AL5: ='Абсолютное, бар'!AL5-Справка!$B$3 -> -0.7871 | AM5: ='Абсолютное, бар'!AM5-Справка!$B$3 -> -0.5503 | AO5: ='Абсолютное, бар'!AO5-Справка!$B$3 -> -0.77635 | AP5: ='Абсолютное, бар'!AP5-Справка!$B$3 -> -0.87753 | AQ5: ='Абсолютное, бар'!AQ5-Справка!$B$3 -> -0.73841 | AR5: ='Абсолютное, бар'!AR5-Справка!$B$3 -> -0.85266
A6: -55 | B6: ='Абсолютное, бар'!B6-Справка!$B$3 -> -0.1706 | C6: ='Абсолютное, бар'!C6-Справка!$B$3 -> -0.17409 | D6: ='Абсолютное, бар'!D6-Справка!$B$3 -> -0.44589 | E6: ='Абсолютное, бар'!E6-Справка!$B$3 -> -0.63724 | F6: ='Абсолютное, бар'!F6-Справка!$B$3 -> -0.36113 | G6: ='Абсолютное, бар'!G6-Справка!$B$3 -> -0.38866 | H6: ='Абсолютное, бар'!H6-Справка!$B$3 -> -0.79497 | I6: ='Абсолютное, бар'!I6-Справка!$B$3 -> -0.16153 | ... Q6: ='Абсолютное, бар'!Q6-Справка!$B$3 -> -0.73114 | S6: ='Абсолютное, бар'!S6-Справка!$B$3 -> -0.74099 | T6: ='Абсолютное, бар'!T6-Справка!$B$3 -> -0.19932 | U6: ='Абсолютное, бар'!U6-Справка!$B$3 -> -0.24883 | V6: ='Абсолютное, бар'!V6-Справка!$B$3 -> -0.19373 | W6: ='Абсолютное, бар'!W6-Справка!$B$3 -> -0.23383 | X6: ='Абсолютное, бар'!X6-Справка!$B$3 -> -0.36582 | Y6: ='Абсолютное, бар'!Y6-Справка!$B$3 -> -0.56435 | Z6: ='Абсолютное, бар'!Z6-Справка!$B$3 -> -0.37567 | ... AI6: ='Абсолютное, бар'!AI6-Справка!$B$3 -> -0.88749 | AK6: ='Абсолютное, бар'!AK6-Справка!$B$3 -> -0.51772 | AL6: ='Абсолютное, бар'!AL6-Справка!$B$3 -> -0.71368 | AM6: ='Абсолютное, бар'!AM6-Справка!$B$3 -> -0.40825 | AO6: ='Абсолютное, бар'!AO6-Справка!$B$3 -> -0.69829 | AP6: ='Абсолютное, бар'!AP6-Справка!$B$3 -> -0.82747 | AQ6: ='Абсолютное, бар'!AQ6-Справка!$B$3 -> -0.64869 | AR6: ='Абсолютное, бар'!AR6-Справка!$B$3 -> -0.79333
A7: -50 | B7: ='Абсолютное, бар'!B7-Справка!$B$3 -> 0.07655 | C7: ='Абсолютное, бар'!C7-Справка!$B$3 -> 0.07225 | D7: ='Абсолютное, бар'!D7-Справка!$B$3 -> -0.27494 | E7: ='Абсолютное, бар'!E7-Справка!$B$3 -> -0.51104 | F7: ='Абсолютное, бар'!F7-Справка!$B$3 -> -0.17089 | G7: ='Абсолютное, бар'!G7-Справка!$B$3 -> -0.2032 | H7: ='Абсолютное, бар'!H7-Справка!$B$3 -> -0.71874 | I7: ='Абсолютное, бар'!I7-Справка!$B$3 -> 0.08815 | ... Q7: ='Абсолютное, бар'!Q7-Справка!$B$3 -> -0.64093 | S7: ='Абсолютное, бар'!S7-Справка!$B$3 -> -0.65129 | T7: ='Абсолютное, бар'!T7-Справка!$B$3 -> 0.03825 | U7: ='Абсолютное, бар'!U7-Справка!$B$3 -> -0.02364 | V7: ='Абсолютное, бар'!V7-Справка!$B$3 -> 0.04555 | W7: ='Абсолютное, бар'!W7-Справка!$B$3 -> -0.00475 | X7: ='Абсолютное, бар'!X7-Справка!$B$3 -> -0.17442 | Y7: ='Абсолютное, бар'!Y7-Справка!$B$3 -> -0.41913 | Z7: ='Абсолютное, бар'!Z7-Справка!$B$3 -> -0.18696 | ... AI7: ='Абсолютное, бар'!AI7-Справка!$B$3 -> -0.84528 | AK7: ='Абсолютное, бар'!AK7-Справка!$B$3 -> -0.36795 | AL7: ='Абсолютное, бар'!AL7-Справка!$B$3 -> -0.62215 | AM7: ='Абсолютное, бар'!AM7-Справка!$B$3 -> -0.23356 | AN7: ='Абсолютное, бар'!AN7-Справка!$B$3 -> -0.87867 | AO7: ='Абсолютное, бар'!AO7-Справка!$B$3 -> -0.60063 | AP7: ='Абсолютное, бар'!AP7-Справка!$B$3 -> -0.76316 | AQ7: ='Абсолютное, бар'!AQ7-Справка!$B$3 -> -0.5367 | AR7: ='Абсолютное, бар'!AR7-Справка!$B$3 -> -0.71717
A8: -45 | B8: ='Абсолютное, бар'!B8-Справка!$B$3 -> 0.37805 | C8: ='Абсолютное, бар'!C8-Справка!$B$3 -> 0.37275 | D8: ='Абсолютное, бар'!D8-Справка!$B$3 -> -0.06517 | E8: ='Абсолютное, бар'!E8-Справка!$B$3 -> -0.35268 | F8: ='Абсолютное, бар'!F8-Справка!$B$3 -> 0.06075 | G8: ='Абсолютное, бар'!G8-Справка!$B$3 -> 0.02325 | H8: ='Абсолютное, бар'!H8-Справка!$B$3 -> -0.62208 | I8: ='Абсолютное, бар'!I8-Справка!$B$3 -> 0.39295 | ... Q8: ='Абсолютное, бар'!Q8-Справка!$B$3 -> -0.52884 | S8: ='Абсолютное, бар'!S8-Справка!$B$3 -> -0.53909 | T8: ='Абсолютное, бар'!T8-Справка!$B$3 -> 0.32775 | U8: ='Абсолютное, бар'!U8-Справка!$B$3 -> 0.25125 | V8: ='Абсолютное, бар'!V8-Справка!$B$3 -> 0.33735 | W8: ='Абсолютное, бар'!W8-Справка!$B$3 -> 0.27485 | X8: ='Абсолютное, бар'!X8-Справка!$B$3 -> 0.05945 | Y8: ='Абсолютное, бар'!Y8-Справка!$B$3 -> -0.23842 | Z8: ='Абсолютное, бар'!Z8-Справка!$B$3 -> 0.04365 | ... AR8: ='Абсолютное, бар'!AR8-Справка!$B$3 -> -0.62086
A9: -40 | B9: ='Абсолютное, бар'!B9-Справка!$B$3 -> 0.74175 | C9: ='Абсолютное, бар'!C9-Справка!$B$3 -> 0.73525 | D9: ='Абсолютное, бар'!D9-Справка!$B$3 -> 0.18935 | E9: ='Абсолютное, бар'!E9-Справка!$B$3 -> -0.15657 | F9: ='Абсолютное, бар'!F9-Справка!$B$3 -> 0.33965 | G9: ='Абсолютное, бар'!G9-Справка!$B$3 -> 0.29645 | H9: ='Абсолютное, бар'!H9-Справка!$B$3 -> -0.50116 | I9: ='Абсолютное, бар'!I9-Справка!$B$3 -> 0.76085 | ... Q9: ='Абсолютное, бар'!Q9-Справка!$B$3 -> -0.39127 | S9: ='Абсолютное, бар'!S9-Справка!$B$3 -> -0.40054 | T9: ='Абсолютное, бар'!T9-Справка!$B$3 -> 0.67675 | U9: ='Абсолютное, бар'!U9-Справка!$B$3 -> 0.58305 | V9: ='Абсолютное, бар'!V9-Справка!$B$3 -> 0.68905 | W9: ='Абсолютное, бар'!W9-Справка!$B$3 -> 0.61235 | X9: ='Абсолютное, бар'!X9-Справка!$B$3 -> 0.34195 | Y9: ='Абсолютное, бар'!Y9-Справка!$B$3 -> -0.0164 | Z9: ='Абсолютное, бар'!Z9-Справка!$B$3 -> 0.32235 | ... AR9: ='Абсолютное, бар'!AR9-Справка!$B$3 -> -0.5007
A10: -35 | B10: ='Абсолютное, бар'!B10-Справка!$B$3 -> 1.17595 | C10: ='Абсолютное, бар'!C10-Справка!$B$3 -> 1.16815 | D10: ='Абсолютное, бар'!D10-Справка!$B$3 -> 0.49485 | E10: ='Абсолютное, бар'!E10-Справка!$B$3 -> 0.08335 | F10: ='Абсолютное, бар'!F10-Справка!$B$3 -> 0.67205 | G10: ='Абсолютное, бар'!G10-Справка!$B$3 -> 0.62295 | H10: ='Абсолютное, бар'!H10-Справка!$B$3 -> -0.35181 | I10: ='Абсолютное, бар'!I10-Справка!$B$3 -> 1.20055 | ... Q10: ='Абсолютное, бар'!Q10-Справка!$B$3 -> -0.22435 | S10: ='Абсолютное, бар'!S10-Справка!$B$3 -> -0.23147 | T10: ='Абсолютное, бар'!T10-Справка!$B$3 -> 1.09325 | U10: ='Абсолютное, бар'!U10-Справка!$B$3 -> 0.97965 | V10: ='Абсолютное, бар'!V10-Справка!$B$3 -> 1.10885 | W10: ='Абсолютное, бар'!W10-Справка!$B$3 -> 1.01545 | X10: ='Абсолютное, бар'!X10-Справка!$B$3 -> 0.67985 | Y10: ='Абсолютное, бар'!Y10-Справка!$B$3 -> 0.25325 | Z10: ='Абсолютное, бар'!Z10-Справка!$B$3 -> 0.65555 | ... AR10: ='Абсолютное, бар'!AR10-Справка!$B$3 -> -0.35269
A11: -30 | B11: ='Абсолютное, бар'!B11-Справка!$B$3 -> 1.68975 | C11: ='Абсолютное, бар'!C11-Справка!$B$3 -> 1.68025 | D11: ='Абсолютное, бар'!D11-Справка!$B$3 -> 0.85805 | E11: ='Абсолютное, бар'!E11-Справка!$B$3 -> 0.37365 | F11: ='Абсолютное, бар'!F11-Справка!$B$3 -> 1.06455 | G11: ='Абсолютное, бар'!G11-Справка!$B$3 -> 1.00905 | H11: ='Абсолютное, бар'!H11-Справка!$B$3 -> -0.16947 | I11: ='Абсолютное, бар'!I11-Справка!$B$3 -> 1.72115 | ... AR11: ='Абсолютное, бар'!AR11-Справка!$B$3 -> -0.17245
A12: -25 | B12: ='Абсолютное, бар'!B12-Справка!$B$3 -> 2.29225 | C12: ='Абсолютное, бар'!C12-Справка!$B$3 -> 2.28085 | D12: ='Абсолютное, бар'!D12-Справка!$B$3 -> 1.28595 | E12: ='Абсолютное, бар'!E12-Справка!$B$3 -> 0.72125 | F12: ='Абсолютное, бар'!F12-Справка!$B$3 -> 1.52405 | G12: ='Абсолютное, бар'!G12-Справка!$B$3 -> 1.46195 | H12: ='Абсолютное, бар'!H12-Справка!$B$3 -> 0.05075 | I12: ='Абсолютное, бар'!I12-Справка!$B$3 -> 2.33235 | ... AR12: ='Абсолютное, бар'!AR12-Справка!$B$3 -> 0.04465
A13: -20 | B13: ='Абсолютное, бар'!B13-Справка!$B$3 -> 2.99335 | C13: ='Абсолютное, бар'!C13-Справка!$B$3 -> 2.97975 | D13: ='Абсолютное, бар'!D13-Справка!$B$3 -> 1.78605 | E13: ='Абсолютное, бар'!E13-Справка!$B$3 -> 1.13365 | F13: ='Абсолютное, бар'!F13-Справка!$B$3 -> 2.05775 | G13: ='Абсолютное, бар'!G13-Справка!$B$3 -> 1.98865 | H13: ='Абсолютное, бар'!H13-Справка!$B$3 -> 0.31405 | I13: ='Абсолютное, бар'!I13-Справка!$B$3 -> 3.04425 | ... AR13: ='Абсолютное, бар'!AR13-Справка!$B$3 -> 0.30375
A14: -15 | B14: ='Абсолютное, бар'!B14-Справка!$B$3 -> 3.80325 | C14: ='Абсолютное, бар'!C14-Справка!$B$3 -> 3.78695 | D14: ='Абсолютное, бар'!D14-Справка!$B$3 -> 2.36595 | E14: ='Абсолютное, бар'!E14-Справка!$B$3 -> 1.61865 | F14: ='Абсолютное, бар'!F14-Справка!$B$3 -> 2.67315 | G14: ='Абсолютное, бар'!G14-Справка!$B$3 -> 2.59685 | H14: ='Абсолютное, бар'!H14-Справка!$B$3 -> 0.62615 | I14: ='Абсолютное, бар'!I14-Справка!$B$3 -> 3.86745 | ... AR14: ='Абсолютное, бар'!AR14-Справка!$B$3 -> 0.60995
A15: -10 | B15: ='Абсолютное, бар'!B15-Справка!$B$3 -> 4.73255 | C15: ='Абсолютное, бар'!C15-Справка!$B$3 -> 4.71325 | D15: ='Абсолютное, бар'!D15-Справка!$B$3 -> 3.03355 | E15: ='Абсолютное, бар'!E15-Справка!$B$3 -> 2.18455 | F15: ='Абсолютное, бар'!F15-Справка!$B$3 -> 3.37805 | G15: ='Абсолютное, бар'!G15-Справка!$B$3 -> 3.29435 | H15: ='Абсолютное, бар'!H15-Справка!$B$3 -> 0.99275 | I15: ='Абсолютное, бар'!I15-Справка!$B$3 -> 4.81305 | ... AR15: ='Абсолютное, бар'!AR15-Справка!$B$3 -> 0.96905
A16: -5 | B16: ='Абсолютное, бар'!B16-Справка!$B$3 -> 5.79225 | C16: ='Абсолютное, бар'!C16-Справка!$B$3 -> 5.76955 | D16: ='Абсолютное, бар'!D16-Справка!$B$3 -> 3.79725 | E16: ='Абсолютное, бар'!E16-Справка!$B$3 -> 2.83995 | F16: ='Абсолютное, бар'!F16-Справка!$B$3 -> 4.18045 | G16: ='Абсолютное, бар'!G16-Справка!$B$3 -> 4.08935 | H16: ='Абсолютное, бар'!H16-Справка!$B$3 -> 1.42015 | I16: ='Абсолютное, бар'!I16-Справка!$B$3 -> 5.89255 | ... AR16: ='Абсолютное, бар'!AR16-Справка!$B$3 -> 1.38665
A17: 0 | B17: ='Абсолютное, бар'!B17-Справка!$B$3 -> 6.99375 | C17: ='Абсолютное, бар'!C17-Справка!$B$3 -> 6.96725 | D17: ='Абсолютное, бар'!D17-Справка!$B$3 -> 4.66545 | E17: ='Абсолютное, бар'!E17-Справка!$B$3 -> 3.59385 | F17: ='Абсолютное, бар'!F17-Справка!$B$3 -> 5.08865 | G17: ='Абсолютное, бар'!G17-Справка!$B$3 -> 4.99005 | H17: ='Абсолютное, бар'!H17-Справка!$B$3 -> 1.91475 | I17: ='Абсолютное, бар'!I17-Справка!$B$3 -> 7.11775 | ... AR17: ='Абсолютное, бар'!AR17-Справка!$B$3 -> 1.86905
A18: 5 | B18: ='Абсолютное, бар'!B18-Справка!$B$3 -> 8.34905 | C18: ='Абсолютное, бар'!C18-Справка!$B$3 -> 8.31825 | D18: ='Абсолютное, бар'!D18-Справка!$B$3 -> 5.64695 | E18: ='Абсолютное, бар'!E18-Справка!$B$3 -> 4.45585 | F18: ='Абсолютное, бар'!F18-Справка!$B$3 -> 6.11145 | G18: ='Абсолютное, бар'!G18-Справка!$B$3 -> 6.00535 | H18: ='Абсолютное, бар'!H18-Справка!$B$3 -> 2.48335 | I18: ='Абсолютное, бар'!I18-Справка!$B$3 -> 8.50125 | ... AR18: ='Абсолютное, бар'!AR18-Справка!$B$3 -> 2.42245
A19: 10 | B19: ='Абсолютное, бар'!B19-Справка!$B$3 -> 9.87075 | C19: ='Абсолютное, бар'!C19-Справка!$B$3 -> 9.83475 | D19: ='Абсолютное, бар'!D19-Справка!$B$3 -> 6.75085 | E19: ='Абсолютное, бар'!E19-Справка!$B$3 -> 5.43555 | F19: ='Абсолютное, бар'!F19-Справка!$B$3 -> 7.25775 | G19: ='Абсолютное, бар'!G19-Справка!$B$3 -> 7.14425 | H19: ='Абсолютное, бар'!H19-Справка!$B$3 -> 3.13285 | I19: ='Абсолютное, бар'!I19-Справка!$B$3 -> 10.05575 | ... AR19: ='Абсолютное, бар'!AR19-Справка!$B$3 -> 3.05355
A20: 15 | B20: ='Абсолютное, бар'!B20-Справка!$B$3 -> 11.57075 | C20: ='Абсолютное, бар'!C20-Справка!$B$3 -> 11.52975 | D20: ='Абсолютное, бар'!D20-Справка!$B$3 -> 7.98625 | E20: ='Абсолютное, бар'!E20-Справка!$B$3 -> 6.54345 | F20: ='Абсолютное, бар'!F20-Справка!$B$3 -> 8.53675 | G20: ='Абсолютное, бар'!G20-Справка!$B$3 -> 8.41615 | H20: ='Абсолютное, бар'!H20-Справка!$B$3 -> 3.87045 | I20: ='Абсолютное, бар'!I20-Справка!$B$3 -> 11.79475 | ... AR20: ='Абсолютное, бар'!AR20-Справка!$B$3 -> 3.76905
A21: 20 | B21: ='Абсолютное, бар'!B21-Справка!$B$3 -> 13.46275 | C21: ='Абсолютное, бар'!C21-Справка!$B$3 -> 13.41675 | D21: ='Абсолютное, бар'!D21-Справка!$B$3 -> 9.36275 | E21: ='Абсолютное, бар'!E21-Справка!$B$3 -> 7.79015 | F21: ='Абсолютное, бар'!F21-Справка!$B$3 -> 9.95875 | G21: ='Абсолютное, бар'!G21-Справка!$B$3 -> 9.83075 | H21: ='Абсолютное, бар'!H21-Справка!$B$3 -> 4.70385 | I21: ='Абсолютное, бар'!I21-Справка!$B$3 -> 13.73275 | ... AR21: ='Абсолютное, бар'!AR21-Справка!$B$3 -> 4.57615
A22: 25 | B22: ='Абсолютное, бар'!B22-Справка!$B$3 -> 15.56075 | C22: ='Абсолютное, бар'!C22-Справка!$B$3 -> 15.50875 | D22: ='Абсолютное, бар'!D22-Справка!$B$3 -> 10.88975 | E22: ='Абсолютное, бар'!E22-Справка!$B$3 -> 9.18675 | F22: ='Абсолютное, бар'!F22-Справка!$B$3 -> 11.53275 | G22: ='Абсолютное, бар'!G22-Справка!$B$3 -> 11.39875 | H22: ='Абсолютное, бар'!H22-Справка!$B$3 -> 5.64055 | I22: ='Абсолютное, бар'!I22-Справка!$B$3 -> 15.88275 | ... AR22: ='Абсолютное, бар'!AR22-Справка!$B$3 -> 5.48205
A23: 30 | B23: ='Абсолютное, бар'!B23-Справка!$B$3 -> 17.87975 | C23: ='Абсолютное, бар'!C23-Справка!$B$3 -> 17.82175 | D23: ='Абсолютное, бар'!D23-Справка!$B$3 -> 12.57775 | E23: ='Абсолютное, бар'!E23-Справка!$B$3 -> 10.74575 | F23: ='Абсолютное, бар'!F23-Справка!$B$3 -> 13.26975 | G23: ='Абсолютное, бар'!G23-Справка!$B$3 -> 13.13075 | H23: ='Абсолютное, бар'!H23-Справка!$B$3 -> 6.68875 | I23: ='Абсолютное, бар'!I23-Справка!$B$3 -> 18.26175 | J23: ='Абсолютное, бар'!J23-Справка!$B$3 -> 13.58075 | L23: ='Абсолютное, бар'!L23-Справка!$B$3 -> 13.94175 | M23: ='Абсолютное, бар'!M23-Справка!$B$3 -> 12.14575 | N23: ='Абсолютное, бар'!N23-Справка!$B$3 -> 11.90775 | O23: ='Абсолютное, бар'!O23-Справка!$B$3 -> 10.97275 | P23: ='Абсолютное, бар'!P23-Справка!$B$3 -> 4.77005 | Q23: ='Абсолютное, бар'!Q23-Справка!$B$3 -> 6.82295 | R23: ='Абсолютное, бар'!R23-Справка!$B$3 -> 0.53935 | S23: ='Абсолютное, бар'!S23-Справка!$B$3 -> 7.15555 | ... AR23: ='Абсолютное, бар'!AR23-Справка!$B$3 -> 6.49435
A24: 35 | B24: ='Абсолютное, бар'!B24-Справка!$B$3 -> 20.43575 | C24: ='Абсолютное, бар'!C24-Справка!$B$3 -> 20.37175 | D24: ='Абсолютное, бар'!D24-Справка!$B$3 -> 14.43675 | E24: ='Абсолютное, бар'!E24-Справка!$B$3 -> 12.47875 | F24: ='Абсолютное, бар'!F24-Справка!$B$3 -> 15.18175 | G24: ='Абсолютное, бар'!G24-Справка!$B$3 -> 15.03775 | H24: ='Абсолютное, бар'!H24-Справка!$B$3 -> 7.85655 | I24: ='Абсолютное, бар'!I24-Справка!$B$3 -> 20.88475 | J24: ='Абсолютное, бар'!J24-Справка!$B$3 -> 15.53175 | L24: ='Абсолютное, бар'!L24-Справка!$B$3 -> 15.97275 | M24: ='Абсолютное, бар'!M24-Справка!$B$3 -> 14.05975 | N24: ='Абсолютное, бар'!N24-Справка!$B$3 -> 13.65475 | O24: ='Абсолютное, бар'!O24-Справка!$B$3 -> 12.68175 | P24: ='Абсолютное, бар'!P24-Справка!$B$3 -> 5.66085 | Q24: ='Абсолютное, бар'!Q24-Справка!$B$3 -> 7.93975 | R24: ='Абсолютное, бар'!R24-Справка!$B$3 -> 0.82405 | S24: ='Абсолютное, бар'!S24-Справка!$B$3 -> 8.34255 | ... AF24: ='Абсолютное, бар'!AF24-Справка!$B$3 -> 12.48675 | AH24: ='Абсолютное, бар'!AH24-Справка!$B$3 -> 11.16575 | AI24: ='Абсолютное, бар'!AI24-Справка!$B$3 -> 3.63445 | AJ24: ='Абсолютное, бар'!AJ24-Справка!$B$3 -> 2.27035 | AK24: ='Абсолютное, бар'!AK24-Справка!$B$3 -> 12.53475 | AL24: ='Абсолютное, бар'!AL24-Справка!$B$3 -> 7.44885 | AM24: ='Абсолютное, бар'!AM24-Справка!$B$3 -> 13.58075 | AN24: ='Абсолютное, бар'!AN24-Справка!$B$3 -> 3.52975 | AO24: ='Абсолютное, бар'!AO24-Справка!$B$3 -> 8.21885 | ... AR24: ='Абсолютное, бар'!AR24-Справка!$B$3 -> 7.62085
A25: 40 | B25: ='Абсолютное, бар'!B25-Справка!$B$3 -> 23.24275 | C25: ='Абсолютное, бар'!C25-Справка!$B$3 -> 23.17375 | D25: ='Абсолютное, бар'!D25-Справка!$B$3 -> 16.47675 | E25: ='Абсолютное, бар'!E25-Справка!$B$3 -> 14.39975 | F25: ='Абсолютное, бар'!F25-Справка!$B$3 -> 17.28075 | G25: ='Абсолютное, бар'!G25-Справка!$B$3 -> 17.13275 | H25: ='Абсолютное, бар'!H25-Справка!$B$3 -> 9.15275 | I25: ='Абсолютное, бар'!I25-Справка!$B$3 -> 23.76975 | J25: ='Абсолютное, бар'!J25-Справка!$B$3 -> 17.67475 | L25: ='Абсолютное, бар'!L25-Справка!$B$3 -> 18.20075 | M25: ='Абсолютное, бар'!M25-Справка!$B$3 -> 16.17975 | N25: ='Абсолютное, бар'!N25-Справка!$B$3 -> 15.57075 | O25: ='Абсолютное, бар'!O25-Справка!$B$3 -> 14.56775 | P25: ='Абсолютное, бар'!P25-Справка!$B$3 -> 6.65125 | Q25: ='Абсолютное, бар'!Q25-Справка!$B$3 -> 9.17175 | R25: ='Абсолютное, бар'!R25-Справка!$B$3 -> 1.14775 | S25: ='Абсолютное, бар'!S25-Справка!$B$3 -> 9.65375 | ... AF25: ='Абсолютное, бар'!AF25-Справка!$B$3 -> 14.53175 | AH25: ='Абсолютное, бар'!AH25-Справка!$B$3 -> 12.68075 | AI25: ='Абсолютное, бар'!AI25-Справка!$B$3 -> 4.29885 | AJ25: ='Абсолютное, бар'!AJ25-Справка!$B$3 -> 2.77165 | AK25: ='Абсолютное, бар'!AK25-Справка!$B$3 -> 14.32275 | AL25: ='Абсолютное, бар'!AL25-Справка!$B$3 -> 8.57495 | AM25: ='Абсолютное, бар'!AM25-Справка!$B$3 -> 15.44275 | AN25: ='Абсолютное, бар'!AN25-Справка!$B$3 -> 4.21435 | AO25: ='Абсолютное, бар'!AO25-Справка!$B$3 -> 9.45375 | ... AR25: ='Абсолютное, бар'!AR25-Справка!$B$3 -> 8.86975
A26: 45 | B26: ='Абсолютное, бар'!B26-Справка!$B$3 -> 26.32175 | C26: ='Абсолютное, бар'!C26-Справка!$B$3 -> 26.24775 | D26: ='Абсолютное, бар'!D26-Справка!$B$3 -> 18.70975 | E26: ='Абсолютное, бар'!E26-Справка!$B$3 -> 16.52275 | F26: ='Абсолютное, бар'!F26-Справка!$B$3 -> 19.57975 | G26: ='Абсолютное, бар'!G26-Справка!$B$3 -> 19.42975 | H26: ='Абсолютное, бар'!H26-Справка!$B$3 -> 10.58575 | I26: ='Абсолютное, бар'!I26-Справка!$B$3 -> 26.93475 | J26: ='Абсолютное, бар'!J26-Справка!$B$3 -> 20.02175 | L26: ='Абсолютное, бар'!L26-Справка!$B$3 -> 20.63775 | M26: ='Абсолютное, бар'!M26-Справка!$B$3 -> 18.51975 | N26: ='Абсолютное, бар'!N26-Справка!$B$3 -> 17.66975 | O26: ='Абсолютное, бар'!O26-Справка!$B$3 -> 16.64375 | P26: ='Абсолютное, бар'!P26-Справка!$B$3 -> 7.74825 | Q26: ='Абсолютное, бар'!Q26-Справка!$B$3 -> 10.52575 | R26: ='Абсолютное, бар'!R26-Справка!$B$3 -> 1.51375 | S26: ='Абсолютное, бар'!S26-Справка!$B$3 -> 11.09775 | ... AF26: ='Абсолютное, бар'!AF26-Справка!$B$3 -> 16.80375 | AH26: ='Абсолютное, бар'!AH26-Справка!$B$3 -> 14.32975 | AI26: ='Абсолютное, бар'!AI26-Справка!$B$3 -> 5.03125 | AJ26: ='Абсолютное, бар'!AJ26-Справка!$B$3 -> 3.32835 | AK26: ='Абсолютное, бар'!AK26-Справка!$B$3 -> 16.27875 | AL26: ='Абсолютное, бар'!AL26-Справка!$B$3 -> 9.80775 | AM26: ='Абсолютное, бар'!AM26-Справка!$B$3 -> 17.47575 | AN26: ='Абсолютное, бар'!AN26-Справка!$B$3 -> 4.97335 | AO26: ='Абсолютное, бар'!AO26-Справка!$B$3 -> 10.80475 | ... AR26: ='Абсолютное, бар'!AR26-Справка!$B$3 -> 10.24975
A27: 50 | B27: ='Абсолютное, бар'!B27-Справка!$B$3 -> 29.69275 | C27: ='Абсолютное, бар'!C27-Справка!$B$3 -> 29.61475 | D27: ='Абсолютное, бар'!D27-Справка!$B$3 -> 21.14675 | E27: ='Абсолютное, бар'!E27-Справка!$B$3 -> 18.86475 | F27: ='Абсолютное, бар'!F27-Справка!$B$3 -> 22.09275 | G27: ='Абсолютное, бар'!G27-Справка!$B$3 -> 21.94375 | H27: ='Абсолютное, бар'!H27-Справка!$B$3 -> 12.16575 | I27: ='Абсолютное, бар'!I27-Справка!$B$3 -> 30.39875 | J27: ='Абсолютное, бар'!J27-Справка!$B$3 -> 22.58975 | L27: ='Абсолютное, бар'!L27-Справка!$B$3 -> 23.29675 | M27: ='Абсолютное, бар'!M27-Справка!$B$3 -> 21.09875 | N27: ='Абсолютное, бар'!N27-Справка!$B$3 -> 19.96075 | O27: ='Абсолютное, бар'!O27-Справка!$B$3 -> 18.92375 | P27: ='Абсолютное, бар'!P27-Справка!$B$3 -> 8.95895 | Q27: ='Абсолютное, бар'!Q27-Справка!$B$3 -> 12.00975 | R27: ='Абсолютное, бар'!R27-Справка!$B$3 -> 1.92555 | S27: ='Абсолютное, бар'!S27-Справка!$B$3 -> 12.68375 | ... AF27: ='Абсолютное, бар'!AF27-Справка!$B$3 -> 19.31675 | AH27: ='Абсолютное, бар'!AH27-Справка!$B$3 -> 16.11975 | AI27: ='Абсолютное, бар'!AI27-Справка!$B$3 -> 5.83575 | AJ27: ='Абсолютное, бар'!AJ27-Справка!$B$3 -> 3.94425 | AK27: ='Абсолютное, бар'!AK27-Справка!$B$3 -> 18.41375 | AL27: ='Абсолютное, бар'!AL27-Справка!$B$3 -> 11.15275 | AM27: ='Абсолютное, бар'!AM27-Справка!$B$3 -> 19.69175 | AN27: ='Абсолютное, бар'!AN27-Справка!$B$3 -> 5.81155 | AO27: ='Абсолютное, бар'!AO27-Справка!$B$3 -> 12.27675 | ... AR27: ='Абсолютное, бар'!AR27-Справка!$B$3 -> 11.76875
A28: 55 | B28: ='Абсолютное, бар'!B28-Справка!$B$3 -> 33.37775 | C28: ='Абсолютное, бар'!C28-Справка!$B$3 -> 33.29975 | D28: ='Абсолютное, бар'!D28-Справка!$B$3 -> 23.79875 | E28: ='Абсолютное, бар'!E28-Справка!$B$3 -> 21.44075 | F28: ='Абсолютное, бар'!F28-Справка!$B$3 -> 24.83775 | G28: ='Абсолютное, бар'!G28-Справка!$B$3 -> 24.69175 | H28: ='Абсолютное, бар'!H28-Справка!$B$3 -> 13.90175 | I28: ='Абсолютное, бар'!I28-Справка!$B$3 -> 34.18575 | J28: ='Абсолютное, бар'!J28-Справка!$B$3 -> 25.39575 | L28: ='Абсолютное, бар'!L28-Справка!$B$3 -> 26.18975 | M28: ='Абсолютное, бар'!M28-Справка!$B$3 -> 23.93675 | N28: ='Абсолютное, бар'!N28-Справка!$B$3 -> 22.45775 | O28: ='Абсолютное, бар'!O28-Справка!$B$3 -> 21.42475 | P28: ='Абсолютное, бар'!P28-Справка!$B$3 -> 10.29075 | Q28: ='Абсолютное, бар'!Q28-Справка!$B$3 -> 13.63375 | R28: ='Абсолютное, бар'!R28-Справка!$B$3 -> 2.38695 | S28: ='Абсолютное, бар'!S28-Справка!$B$3 -> 14.41975 | ... AF28: ='Абсолютное, бар'!AF28-Справка!$B$3 -> 22.08675 | AH28: ='Абсолютное, бар'!AH28-Справка!$B$3 -> 18.05875 | AI28: ='Абсолютное, бар'!AI28-Справка!$B$3 -> 6.71665 | AJ28: ='Абсолютное, бар'!AJ28-Справка!$B$3 -> 4.62325 | AK28: ='Абсолютное, бар'!AK28-Справка!$B$3 -> 20.73775 | AL28: ='Абсолютное, бар'!AL28-Справка!$B$3 -> 12.61675 | AM28: ='Абсолютное, бар'!AM28-Справка!$B$3 -> 22.10175 | AN28: ='Абсолютное, бар'!AN28-Справка!$B$3 -> 6.73405 | AO28: ='Абсолютное, бар'!AO28-Справка!$B$3 -> 13.87775 | ... AR28: ='Абсолютное, бар'!AR28-Справка!$B$3 -> 13.43675
A29: 60 | B29: ='Абсолютное, бар'!B29-Справка!$B$3 -> 37.40475 | C29: ='Абсолютное, бар'!C29-Справка!$B$3 -> 37.33075 | D29: ='Абсолютное, бар'!D29-Справка!$B$3 -> 26.67875 | E29: ='Абсолютное, бар'!E29-Справка!$B$3 -> 24.27375 | F29: ='Абсолютное, бар'!F29-Справка!$B$3 -> 27.83575 | G29: ='Абсолютное, бар'!G29-Справка!$B$3 -> 27.69775 | H29: ='Абсолютное, бар'!H29-Справка!$B$3 -> 15.80475 | I29: ='Абсолютное, бар'!I29-Справка!$B$3 -> 38.31875 | J29: ='Абсолютное, бар'!J29-Справка!$B$3 -> 28.46275 | L29: ='Абсолютное, бар'!L29-Справка!$B$3 -> 29.33275 | M29: ='Абсолютное, бар'!M29-Справка!$B$3 -> 27.05675 | N29: ='Абсолютное, бар'!N29-Справка!$B$3 -> 25.17575 | O29: ='Абсолютное, бар'!O29-Справка!$B$3 -> 24.16575 | P29: ='Абсолютное, бар'!P29-Справка!$B$3 -> 11.75275 | Q29: ='Абсолютное, бар'!Q29-Справка!$B$3 -> 15.40475 | R29: ='Абсолютное, бар'!R29-Справка!$B$3 -> 2.90155 | S29: ='Абсолютное, бар'!S29-Справка!$B$3 -> 16.31675 | ... AF29: ='Абсолютное, бар'!AF29-Справка!$B$3 -> 25.13175 | AH29: ='Абсолютное, бар'!AH29-Справка!$B$3 -> 20.15475 | AI29: ='Абсолютное, бар'!AI29-Справка!$B$3 -> 7.67835 | AJ29: ='Абсолютное, бар'!AJ29-Справка!$B$3 -> 5.36915 | AK29: ='Абсолютное, бар'!AK29-Справка!$B$3 -> 23.26175 | AL29: ='Абсолютное, бар'!AL29-Справка!$B$3 -> 14.20575 | AM29: ='Абсолютное, бар'!AM29-Справка!$B$3 -> 24.71975 | AN29: ='Абсолютное, бар'!AN29-Справка!$B$3 -> 7.74585 | AO29: ='Абсолютное, бар'!AO29-Справка!$B$3 -> 15.61375 | ... AR29: ='Абсолютное, бар'!AR29-Справка!$B$3 -> 15.26475
A30: 65 | B30: ='Абсолютное, бар'!B30-Справка!$B$3 -> 41.81075 | C30: ='Абсолютное, бар'!C30-Справка!$B$3 -> 41.74675 | D30: ='Абсолютное, бар'!D30-Справка!$B$3 -> 29.80075 | E30: ='Абсолютное, бар'!E30-Справка!$B$3 -> 27.38675 | F30: ='Абсолютное, бар'!F30-Справка!$B$3 -> 31.11175 | G30: ='Абсолютное, бар'!G30-Справка!$B$3 -> 30.99075 | H30: ='Абсолютное, бар'!H30-Справка!$B$3 -> 17.88475 | I30: ='Абсолютное, бар'!I30-Справка!$B$3 -> 42.82975 | J30: ='Абсолютное, бар'!J30-Справка!$B$3 -> 31.82475 | L30: ='Абсолютное, бар'!L30-Справка!$B$3 -> 32.73775 | M30: ='Абсолютное, бар'!M30-Справка!$B$3 -> 30.48775 | N30: ='Абсолютное, бар'!N30-Справка!$B$3 -> 28.12975 | O30: ='Абсолютное, бар'!O30-Справка!$B$3 -> 27.17175 | P30: ='Абсолютное, бар'!P30-Справка!$B$3 -> 13.35175 | Q30: ='Абсолютное, бар'!Q30-Справка!$B$3 -> 17.33375 | R30: ='Абсолютное, бар'!R30-Справка!$B$3 -> 3.47335 | S30: ='Абсолютное, бар'!S30-Справка!$B$3 -> 18.38475 | ... AF30: ='Абсолютное, бар'!AF30-Справка!$B$3 -> 28.46775 | AH30: ='Абсолютное, бар'!AH30-Справка!$B$3 -> 22.41675 | AI30: ='Абсолютное, бар'!AI30-Справка!$B$3 -> 8.72535 | AJ30: ='Абсолютное, бар'!AJ30-Справка!$B$3 -> 6.18585 | AK30: ='Абсолютное, бар'!AK30-Справка!$B$3 -> 25.99875 | AL30: ='Абсолютное, бар'!AL30-Справка!$B$3 -> 15.92775 | AM30: ='Абсолютное, бар'!AM30-Справка!$B$3 -> 27.56375 | AN30: ='Абсолютное, бар'!AN30-Справка!$B$3 -> 8.85225 | AO30: ='Абсолютное, бар'!AO30-Справка!$B$3 -> 17.48975 | ... AR30: ='Абсолютное, бар'!AR30-Справка!$B$3 -> 17.26175
A31: 70 | D31: ='Абсолютное, бар'!D31-Справка!$B$3 -> 33.17575 | E31: ='Абсолютное, бар'!E31-Справка!$B$3 -> 30.80975 | H31: ='Абсолютное, бар'!H31-Справка!$B$3 -> 20.15475 | I31: ='Абсолютное, бар'!I31-Справка!$B$3 -> 47.75475 | L31: ='Абсолютное, бар'!L31-Справка!$B$3 -> 36.41975 | M31: ='Абсолютное, бар'!M31-Справка!$B$3 -> 34.26875 | N31: ='Абсолютное, бар'!N31-Справка!$B$3 -> 31.33875 | O31: ='Абсолютное, бар'!O31-Справка!$B$3 -> 30.48075 | P31: ='Абсолютное, бар'!P31-Справка!$B$3 -> 15.09675 | Q31: ='Абсолютное, бар'!Q31-Справка!$B$3 -> 19.43175 | R31: ='Абсолютное, бар'!R31-Справка!$B$3 -> 4.10635 | S31: ='Абсолютное, бар'!S31-Справка!$B$3 -> 20.63575 | ... AF31: ='Абсолютное, бар'!AF31-Справка!$B$3 -> 32.11175 | AH31: ='Абсолютное, бар'!AH31-Справка!$B$3 -> 24.85475 | AI31: ='Абсолютное, бар'!AI31-Справка!$B$3 -> 9.86175 | AJ31: ='Абсолютное, бар'!AJ31-Справка!$B$3 -> 7.07755 | AK31: ='Абсолютное, бар'!AK31-Справка!$B$3 -> 28.96075 | AL31: ='Абсолютное, бар'!AL31-Справка!$B$3 -> 17.78875 | AM31: ='Абсолютное, бар'!AM31-Справка!$B$3 -> 30.65275 | AN31: ='Абсолютное, бар'!AN31-Справка!$B$3 -> 10.05875 | AO31: ='Абсолютное, бар'!AO31-Справка!$B$3 -> 19.51375 | ... AR31: ='Абсолютное, бар'!AR31-Справка!$B$3 -> 19.43975
A32: 75 | D32: ='Абсолютное, бар'!D32-Справка!$B$3 -> 36.81675 | E32: ='Абсолютное, бар'!E32-Справка!$B$3 -> 34.58775 | H32: ='Абсолютное, бар'!H32-Справка!$B$3 -> 22.62775 | I32: ='Абсолютное, бар'!I32-Справка!$B$3 -> 53.15475 | L32: ='Абсолютное, бар'!L32-Справка!$B$3 -> 40.38775 | M32: ='Абсолютное, бар'!M32-Справка!$B$3 -> 38.46275 | N32: ='Абсолютное, бар'!N32-Справка!$B$3 -> 34.81575 | O32: ='Абсолютное, бар'!O32-Справка!$B$3 -> 34.16775 | P32: ='Абсолютное, бар'!P32-Справка!$B$3 -> 16.99775 | Q32: ='Абсолютное, бар'!Q32-Справка!$B$3 -> 21.70875 | R32: ='Абсолютное, бар'!R32-Справка!$B$3 -> 4.80455 | S32: ='Абсолютное, бар'!S32-Справка!$B$3 -> 23.08175 | ... U32: ='Абсолютное, бар'!U32-Справка!$B$3 -> 48.12975 | X32: ='Абсолютное, бар'!X32-Справка!$B$3 -> 39.13575 | Y32: ='Абсолютное, бар'!Y32-Справка!$B$3 -> 36.93275 | Z32: ='Абсолютное, бар'!Z32-Справка!$B$3 -> 38.62075 | AA32: ='Абсолютное, бар'!AA32-Справка!$B$3 -> 36.59475 | AD32: ='Абсолютное, бар'!AD32-Справка!$B$3 -> 38.40275 | AE32: ='Абсолютное, бар'!AE32-Справка!$B$3 -> 33.79375 | AF32: ='Абсолютное, бар'!AF32-Справка!$B$3 -> 36.08275 | AH32: ='Абсолютное, бар'!AH32-Справка!$B$3 -> 27.47975 | AI32: ='Абсолютное, бар'!AI32-Справка!$B$3 -> 11.09375 | AJ32: ='Абсолютное, бар'!AJ32-Справка!$B$3 -> 8.04835 | AK32: ='Абсолютное, бар'!AK32-Справка!$B$3 -> 32.16375 | AL32: ='Абсолютное, бар'!AL32-Справка!$B$3 -> 19.79775 | AM32: ='Абсолютное, бар'!AM32-Справка!$B$3 -> 34.01575 | AN32: ='Абсолютное, бар'!AN32-Справка!$B$3 -> 11.37075 | AO32: ='Абсолютное, бар'!AO32-Справка!$B$3 -> 21.69175 | ... AR32: ='Абсолютное, бар'!AR32-Справка!$B$3 -> 21.81275
A33: 80 | D33: ='Абсолютное, бар'!D33-Справка!$B$3 -> 40.72475 | E33: ='Абсолютное, бар'!E33-Справка!$B$3 -> 38.79475 | H33: ='Абсолютное, бар'!H33-Справка!$B$3 -> 25.31875 | P33: ='Абсолютное, бар'!P33-Справка!$B$3 -> 19.06375 | Q33: ='Абсолютное, бар'!Q33-Справка!$B$3 -> 24.18175 | R33: ='Абсолютное, бар'!R33-Справка!$B$3 -> 5.57225 | S33: ='Абсолютное, бар'!S33-Справка!$B$3 -> 25.73975 | AF33: ='Абсолютное, бар'!AF33-Справка!$B$3 -> 40.39975 | AH33: ='Абсолютное, бар'!AH33-Справка!$B$3 -> 30.30575 | AI33: ='Абсолютное, бар'!AI33-Справка!$B$3 -> 12.42475 | AJ33: ='Абсолютное, бар'!AJ33-Справка!$B$3 -> 9.10275 | AK33: ='Абсолютное, бар'!AK33-Справка!$B$3 -> 35.62475 | AL33: ='Абсолютное, бар'!AL33-Справка!$B$3 -> 21.96175 | AN33: ='Абсолютное, бар'!AN33-Справка!$B$3 -> 12.79375 | AO33: ='Абсолютное, бар'!AO33-Справка!$B$3 -> 24.03075 | AP33: ='Абсолютное, бар'!AP33-Справка!$B$3 -> 20.88675 | AQ33: ='Абсолютное, бар'!AQ33-Справка!$B$3 -> 27.17575 | AR33: ='Абсолютное, бар'!AR33-Справка!$B$3 -> 24.39475
A34: 85 | H34: ='Абсолютное, бар'!H34-Справка!$B$3 -> 28.24475 | P34: ='Абсолютное, бар'!P34-Справка!$B$3 -> 21.30775 | Q34: ='Абсолютное, бар'!Q34-Справка!$B$3 -> 26.86775 | R34: ='Абсолютное, бар'!R34-Справка!$B$3 -> 6.41395 | S34: ='Абсолютное, бар'!S34-Справка!$B$3 -> 28.62775 | AF34: ='Абсолютное, бар'!AF34-Справка!$B$3 -> 45.08175 | AH34: ='Абсолютное, бар'!AH34-Справка!$B$3 -> 33.34775 | AI34: ='Абсолютное, бар'!AI34-Справка!$B$3 -> 13.86075 | AJ34: ='Абсолютное, бар'!AJ34-Справка!$B$3 -> 10.24475 | AK34: ='Абсолютное, бар'!AK34-Справка!$B$3 -> 39.36475 | AL34: ='Абсолютное, бар'!AL34-Справка!$B$3 -> 24.29075 | AN34: ='Абсолютное, бар'!AN34-Справка!$B$3 -> 14.33575 | AO34: ='Абсолютное, бар'!AO34-Справка!$B$3 -> 26.53675 | AP34: ='Абсолютное, бар'!AP34-Справка!$B$3 -> 23.31275 | AQ34: ='Абсолютное, бар'!AQ34-Справка!$B$3 -> 29.99875 | AR34: ='Абсолютное, бар'!AR34-Справка!$B$3 -> 27.20275
A35: 90 | H35: ='Абсолютное, бар'!H35-Справка!$B$3 -> 31.42875 | P35: ='Абсолютное, бар'!P35-Справка!$B$3 -> 23.74175 | Q35: ='Абсолютное, бар'!Q35-Справка!$B$3 -> 29.79475 | R35: ='Абсолютное, бар'!R35-Справка!$B$3 -> 7.33395 | S35: ='Абсолютное, бар'!S35-Справка!$B$3 -> 31.77375 | AF35: ='Абсолютное, бар'!AF35-Справка!$B$3 -> 50.15075 | AH35: ='Абсолютное, бар'!AH35-Справка!$B$3 -> 36.62775 | AI35: ='Абсолютное, бар'!AI35-Справка!$B$3 -> 15.40675 | AJ35: ='Абсолютное, бар'!AJ35-Справка!$B$3 -> 11.47975 | AK35: ='Абсолютное, бар'!AK35-Справка!$B$3 -> 43.40975 | AL35: ='Абсолютное, бар'!AL35-Справка!$B$3 -> 26.79475 | AN35: ='Абсолютное, бар'!AN35-Справка!$B$3 -> 16.00075 | AO35: ='Абсолютное, бар'!AO35-Справка!$B$3 -> 29.21775 | AP35: ='Абсолютное, бар'!AP35-Справка!$B$3 -> 25.94775 | AQ35: ='Абсолютное, бар'!AQ35-Справка!$B$3 -> 33.01975 | AR35: ='Абсолютное, бар'!AR35-Справка!$B$3 -> 30.25875

Sheet Хладагенты
A1: Хладагент | B1: Тип и состав, % масс. | C1: Класс ASHRAE 34 | D1: ПГП (100 лет) | E1: t крит., °C | F1: Глайд при p росы 0 °C, K | G1: Диапазон данных, °C | H1: Примечание
A2: R410A | B2: зеотропная смесь R32/R125 (50/50) | C2: A1 | D2: 2088 | E2: 71.3 | F2: 0.1 | G2: -70…65
A3: R407C | B3: зеотропная смесь R32/R125/R134a (23/25/52) | C3: A1 | D3: 1774 | E3: 86.1 | F3: 6.2 | G3: -70…80
A4: R404A | B4: зеотропная смесь R125/R143a/R134a (44/52/4) | C4: A1 | D4: 3922 | E4: 72.1 | F4: 0.5 | G4: -70…65
A5: R134a | B5: однокомпонентный | C5: A1 | D5: 1430 | E5: 101.1 | G5: -65…90
A6: R32 | B6: однокомпонентный | C6: A2L | D6: 675 | E6: 78.1 | G6: -70…75
A7: R507A | B7: азеотропная смесь R125/R143a (50/50) | C7: A1 | D7: 3985 | E7: 70.6 | G7: -70…65
A8: R23 | B8: однокомпонентный | C8: A1 | D8: 14800 | E8: 26.1 | G8: -70…25
A9: R407F | B9: зеотропная смесь R32/R125/R134a (30/30/40) | C9: A1 | D9: 1825 | E9: 82.6 | F9: 5.6 | G9: -70…75
A10: R422D | B10: зеотропная смесь R125/R134a/R600a (65,1/31,5/3,4) | C10: A1 | D10: 2729 | E10: 78.1 | F10: 3.8 | G10: -70…75
A11: R1234ze(E) | B11: однокомпонентный | C11: A2L | D11: 7 | E11: 109.4 | G11: -60…90
A12: R1234yf | B12: однокомпонентный | C12: A2L | D12: 4 | E12: 94.7 | G12: -70…90
A13: R1233zd(E) | B13: однокомпонентный | C13: A1 | D13: 4.5 | E13: 165.7 | G13: -30…90
A14: R513A | B14: азеотропная смесь R1234yf/R134a (56/44) | C14: A1 | D14: 631 | E14: 95.4 | G14: -70…90
A15: R454B | B15: зеотропная смесь R32/R1234yf (68,9/31,1) | C15: A2L | D15: 466 | E15: 78.3 | F15: 1.4 | G15: -70…75
A16: R452B | B16: зеотропная смесь R32/R125/R1234yf (67/7/26) | C16: A2L | D16: 698 | E16: 77.2 | F16: 1.2 | G16: -70…70
A17: R448A | B17: зеотропная смесь R32/R125/R1234yf/R134a/R1234ze(E) (26/26/20/21/7) | C17: A1 | D17: 1387 | E17: 82.8 | F17: 6.1 | G17: -70…75
A18: R449A | B18: зеотропная смесь R32/R125/R1234yf/R134a (24,3/24,7/25,3/25,7) | C18: A1 | D18: 1397 | E18: 82.5 | F18: 5.6 | G18: -70…75
A19: R452A | B19: зеотропная смесь R1234yf/R32/R125 (30/11/59) | C19: A1 | D19: 2140 | E19: 75.1 | F19: 4.2 | G19: -70…70
A20: R455A | B20: зеотропная смесь R744/R32/R1234yf (3/21,5/75,5) | C20: A2L | D20: 148 | E20: 85.6 | F20: 12.9 | G20: -70…75
A21: R717 (аммиак) | B21: однокомпонентный | C21: B2L | D21: 0 | E21: 132.4 | G21: -70…90
A22: R744 (CO2) | B22: однокомпонентный | C22: A1 | D22: 1 | E22: 31 | G22: -55…30
A23: R290 (пропан) | B23: однокомпонентный | C23: A3 | D23: 3 | E23: 96.7 | G23: -70…90
A24: R600a (изобутан) | B24: однокомпонентный | C24: A3 | D24: 3 | E24: 134.7 | G24: -55…90
A25: R600 (бутан) | B25: однокомпонентный | C25: A3 | D25: 4 | E25: 152 | G25: -45…90
A26: R22 | B26: однокомпонентный | C26: A1 | D26: 1810 | E26: 96.1 | G26: -70…90 | H26: ГХФУ, озоноразрушающий
A27: R12 | B27: однокомпонентный | C27: A1 | D27: 10900 | E27: 112 | G27: -70…90 | H27: ХФУ, производство запрещено
A28: R502 | B28: азеотропная смесь R22/R115 (48,8/51,2) | C28: A1 | D28: 4657 | E28: 82.3 | G28: -70…75 | H28: смесь с ХФУ, производство запрещено
A29: R142b | B29: однокомпонентный | C29: A2 | D29: 2310 | E29: 137.1 | G29: -50…90 | H29: ГХФУ, озоноразрушающий
A30: R406A | B30: зеотропная смесь R22/R600a/R142b (55/4/41) | C30: A2 | D30: 1943 | E30: 118 | F30: 8.9 | G30: -60…90 | H30: смесь с ГХФУ, озоноразрушающая; расчёт оценочный
A31: R409A | B31: зеотропная смесь R22/R124/R142b (60/25/15) | C31: A1 | D31: 1585 | E31: 110.3 | F31: 8 | G31: -65…90 | H31: смесь с ГХФУ, озоноразрушающая; расчёт оценочный
